BEGIN:VCALENDAR
CALSCALE:GREGORIAN
VERSION:2.0
PRODID:-//Elixir ICalendar//Mobilizon //EN
BEGIN:VEVENT
CATEGORIES:andiwisbauer,berlin,berlinjazz,blues,funk,jazz,jazzberlin,jazzneukölln,neukölln,peppiguggenheim,philippcieslewicz,soul
DESCRIPTION:Philipp Cieslewicz - Wurlitzer\n\nAndi Wisbauer - Bass\n\nHanno Stick - Schlagzeug\n\nGrooove\, Grooove\, Grooooovvveeeee. Hot.\n\nLive on YouTube: https://www.youtube.com/watch?v=ro6QQcpT5JE\n\nEintritt frei – um angemessenen Kulturbeitrag wird gebeten.\n\nFree entry – it is suggested to give some money if you like the band.\n\nDas Peppi Guggenheim ist eine Raucherinnenbar! Einlass ab 18 Jahre!\n\nThe Peppi Guggenheim is a smoking bar! Admission from 18 years!\n\nSpe©ialgalerie Peppi Guggenheim International Berlin\n\nhttp://www.peppi-guggenheim.de\n\nhttps://mastodon.social/@Peppi_Guggenheim\n\nhttps://makertube.net/c/peppi_guggenheim_live/videos\n\n#PhilippCieslewicz #AndiWisbauer #Funk #Soul #Blues #Jazz #PeppiGuggenheim #Neukölln #Berlin #BerlinJazz #JazzNeukölln #JazzBerlin\n\n
DTEND;TZID=Europe/Berlin:20260424T213000
DTSTAMP:20260421T091443Z
DTSTART;TZID=Europe/Berlin:20260424T203000
LOCATION:Peppi Guggenheim Weichselstrasse 7 12043 Berlin  Deutschland
ORGANIZER:Peppi Guggenheim Live Music
STATUS:CONFIRMED
SUMMARY:Petrosilius Zwackelzahn
UID:9a2ed722-fcac-4021-9df4-48f56b903a8b
URL:https://mobilize.berlin/events/9a2ed722-fcac-4021-9df4-48f56b903a8b
END:VEVENT
BEGIN:VEVENT
CATEGORIES:berlin,berlinjazz,dawnvandoom,drag,dragmusic,dragshow,improvisation,jazz,jazzberlin,jazzneukölln,joehertenstein,neukölln,peppiguggenheim,princegabriel,show,liveconcert
DESCRIPTION:Prince Gabriel presents Drag & Music\n\nThe theme of the evening is: "Synthetize my mind"\n\nSpecial guest: Dawn Van Doom\n\nMusic:\n\nVolker Meitz: Synthesizer\n\nJoe Hertenstein: Drums/\n\n(Style of music is inspired by wave\, goth wave of the 80s)\n\nYou can look forward to an unforgettable evening of show and great live music from magnificent musicians. The stage will be rocked and you will be thrilled by the unique mixture of glamour\, rebellion\, and passion!\n\nLive on YouTube: https://www.youtube.com/watch?v=7SFpyUVXz4A\n\nEintritt frei – um angemessenen Kulturbeitrag wird gebeten.\n\nFree entry – it is suggested to give some money if you like the band.\n\nDas Peppi Guggenheim ist eine Raucherinnenbar! Einlass ab 18 Jahre!\n\nThe Peppi Guggenheim is a smoking bar! Admission from 18 years!\n\nSpe©ialgalerie Peppi Guggenheim International Berlin\n\nhttp://www.peppi-guggenheim.de\n\nhttps://mastodon.social/@Peppi_Guggenheim\n\nhttps://makertube.net/c/peppi_guggenheim_live/videos\n\n#PrinceGabriel #DawnVanDoom #JoeHertenstein #Drag #Show #DragShow #DragMusic #Jazz #Improvisation #liveConcert #PeppiGuggenheim #Neukölln #Berlin #BerlinJazz #JazzNeukölln #JazzBerlin\n\n
DTEND;TZID=Europe/Berlin:20260425T213000
DTSTAMP:20260421T091443Z
DTSTART;TZID=Europe/Berlin:20260425T203000
LOCATION:Peppi Guggenheim Weichselstrasse 7 12043 Berlin  Deutschland
ORGANIZER:Peppi Guggenheim Live Music
STATUS:CONFIRMED
SUMMARY:Prince Gabriel Presents: Drag & Music
UID:f4121da5-2afe-4e2e-83bd-122120dd275f
URL:https://mobilize.berlin/events/f4121da5-2afe-4e2e-83bd-122120dd275f
END:VEVENT
BEGIN:VEVENT
CATEGORIES:folk,irish,jam,live,music,tradtional
DESCRIPTION:Irish tradtional Session. A group of musicians come together to continue the tradition of sharing songs and tunes\, whether it be old favourites or contemporary additions.\n\nFrom now on\, every last Monday at Peppi.\n\n#irish #live #music #tradtional #folk #jam\n\n
DTEND;TZID=Europe/Berlin:20260427T210000
DTSTAMP:20260421T091443Z
DTSTART;TZID=Europe/Berlin:20260427T200000
LOCATION:Peppi Guggenheim Weichselstrasse 7 12043 Berlin  Deutschland
ORGANIZER:Peppi Guggenheim Live Music
STATUS:CONFIRMED
SUMMARY:Irish Trad Session
UID:521f4692-425f-44f1-8db0-4468c0e752da
URL:https://mobilize.berlin/events/521f4692-425f-44f1-8db0-4468c0e752da
END:VEVENT
BEGIN:VEVENT
CATEGORIES:annagirsberger,basilschreyer,berlin,berlinjazz,jazzberlin,jazzneukölln,neukölln,paulstuder,peppiguggenheim,personne
DESCRIPTION:wir sind niemand\n\nnous sommes personne\n\nwe are no one\n\nDie Wehen begannen schlagartig. Der Helsinki Klub in Zürich krümmte sich und schrie. Keine drei Stunden später war personne geboren. Ein Kaiserschnitt war nicht vonnöten. personne rannte\, bevor sie laufen konnte und sang\, bevor sie sprach. «attention economy» ist personnes erstes\, grosses Zeichen: Eine EP\, die so unvermittelt zur Welt kam\, wie die Band selbst. Bedingungsloser Erfindergeist\, Wut und Mut zur Kritik verbinden die drei grossartigen Musiker*innen zu einer sprühenden Einheit Hoffnung.\n\nAnna Girsberger\, Paul Studer und Basil Schreyer mussten sich finden. Alle in den frühen 00er Jahren geboren und in den Spannungsfeldern von digitalem Dopamin\, virtualisierten Begegnungen und Late Stage Capitalism sozialisiert\, sind sie bereit\, die Schnelllebigkeit abzuschütteln. Sie sehnen sich nach Bedeutung jenseits des Sichtbaren und nach echten Verbindungen. «attention economy» ist Kritik einer Welt\, die sich zunehmend über Präsenz definiert\, und ihr Gegenentwurf in einem: Analoge\, warme\, menschliche Musik\, die Assoziationen mit den surrealen Pop-Welten von Aldous Harding\, der kompromisslose Ehrlichkeit von Sophie Hunger und den lyrischen Tiefen von Adrienne Lenker weckt.\n\nDrei sehr eigensinnige Charaktere mit unterschiedlichen musikalischen Backgrounds treffen aufeinander\, die aus ihren Gegensätzlichkeiten gemeinsame Kraft schöpfen. «Wir schlagen uns gern die Köpfe ein\, aber bewusst und immer auf die bestmögliche Art»\, so die Band. Aus hitzigen\, leidenschaftlichen Diskussionen destilliere sie ihren Eifer. Wie ein Feuer\, das auf Zunder trifft\, nehmen personne im Mai 2025 ihre erste EP auf\, die Aufnahmen zusammen mit dem deutschen Produzenten Phil Eulgem sind in kurzer Zeit ereignisreich und ergiebig.\n\ntrust your senses\n\ntrust your truth\n\ntrust your path\n\nand everything you do\n\nEs sind Songs im Spannungsfeld von Identität\, Personenkult und Zugehörigkeit. Der Opener «avalanche» ein Ruf nach Befreiung\, radioheadeske Harmonien\, Piano und Drums eilen und fliegen. «synesthesia» ist ein dringlicher Stomper gegen Reizüberflutung\, ein Appell in das Vertrauen in die eigenen Sinne in Zeiten allgegenwärtiger Irritation. «mad girl» eine fiebrige Hommage an die Dichterin Sylvia Plath\, Liebe und Wahn vereint in wanderndem Piano\, ermutigenden Drums\, Vocals aus einem Traum. «coffee grounds» sucht nach Halt und Bedeutung in irrigen Zeiten\, lässt Instrumente und Stimme auseinanderdriften und zueinanderfinden. «changing choosing winning losing» ist Entscheidung gegen Stillstand – ein leiser\, aber umso nachdrücklicher Anstoss\, sich die Freiheit zurückzuholen.\n\nchoose your weapon wisely\n\nwhen will they realize\, we\n\ncan’t win\, there’s no prize\n\nsongs are weapons in disguise\n\npersonne sind:\n\nAnna Girsberger: Piano & Vocals\n\nPaul Studer: E-Bass/Synth-Bass\n\nBasil Schreyer: Drums\n\nAnna Girsberger ist Sängerin und Multiinstrumentalistin\, veröffentlichte 2025 ihr viel beachtetes Solo-Debüt als Anna Rey bei Red Brick Records und arbeitete mit Künstlerinnen wie Andrina Bollinger\, Rob Luft oder To Athena. Paul Studer ist Bassist mit Wurzeln im Jazz und Pop und hat u.a. mit Fräulein Luise Chris Cheek\, Adam O’Farrill oder Grégoire Maret gespielt. Basil Schreyer prägt als Schlagzeuger die Westschweizer Szene mit und gewann mit seiner Band Polar Bären die M4Music Demotape Clinic 2025.\n\n«attention economy» wird am 27. Februar 2026 bei Two Gentlemen und Irascible Records veröffentlicht.\n\nhttps://www.personne-band.ch/\n\nPhoto: Sam Aebi\n\nLive on YouTube: https://www.youtube.com/watch?v=yeYQIUOIDAQ\n\nEintritt frei – um angemessenen Kulturbeitrag wird gebeten.\n\nFree entry – it is suggested to give some money if you like the band.\n\nDas Peppi Guggenheim ist eine Raucherinnenbar! Einlass ab 18 Jahre!\n\nThe Peppi Guggenheim is a smoking bar! Admission from 18 years!\n\nSpe©ialgalerie Peppi Guggenheim International Berlin\n\nhttp://www.peppi-guggenheim.de\n\nhttps://mastodon.social/@Peppi_Guggenheim\n\nhttps://makertube.net/c/peppi_guggenheim_live/videos\n\n#PaulStuder #AnnaGirsberger #BasilSchreyer #personne #PeppiGuggenheim #Neukölln #Berlin #BerlinJazz #JazzNeukölln #JazzBerlin\n\n
DTEND;TZID=Europe/Berlin:20260429T213000
DTSTAMP:20260421T091443Z
DTSTART;TZID=Europe/Berlin:20260429T203000
LOCATION:Peppi Guggenheim Weichselstrasse 7 12043 Berlin  Deutschland
ORGANIZER:Peppi Guggenheim Live Music
STATUS:CONFIRMED
SUMMARY:personne
UID:764dc01e-4fd7-4c22-84fb-694d21176cd6
URL:https://mobilize.berlin/events/764dc01e-4fd7-4c22-84fb-694d21176cd6
END:VEVENT
BEGIN:VEVENT
CATEGORIES:barfly,berlin,karaoke,neukölln,peppiguggenheim,rock,rockkaraoke
DESCRIPTION:Rock-Karaoke mit der Live Band BarFly.\n\nhttps://www.facebook.com/barfly.berlin/?locale=de_DE\n\nEintritt frei – um angemessenen Kulturbeitrag wird gebeten.\n\nFree entry – it is suggested to give some money if you like the band.\n\nDas Peppi Guggenheim ist eine Raucherinnenbar! Einlass ab 18 Jahre!\n\nThe Peppi Guggenheim is a smoking bar! Admission from 18 years!\n\n#RockKaraoke #BarFly #Karaoke #Rock #PeppiGuggenheim #Neukölln #Berlin\n\n
DTEND;TZID=Europe/Berlin:20260430T214500
DTSTAMP:20260421T091443Z
DTSTART;TZID=Europe/Berlin:20260430T200000
LOCATION:Peppi Guggenheim Weichselstrasse 7 12043 Berlin  Deutschland
ORGANIZER:Peppi Guggenheim Live Music
STATUS:CONFIRMED
SUMMARY:BarFly Live Rock-Karaoke
UID:a9a5f9fa-b684-400b-beaa-4534be563ef8
URL:https://mobilize.berlin/events/a9a5f9fa-b684-400b-beaa-4534be563ef8
END:VEVENT
BEGIN:VEVENT
CATEGORIES:arsenyrykov,bastianmenz,berlin,berlinjazz,francescobeccaro,fusion,jazzberlin,jazzneukölln,neukölln,omriabramov,peppiguggenheim,modernjazz
DESCRIPTION:Omri Abramov - Sax\n\nArseny Rykov - Piano\n\nFrancesco Beccaro - Bass\n\nBastian Menz - Drums\n\nEnergetische Zustände und mitreißende Beats treffen auf eingängige Melodien\, die die Zuhörerinnen zum Träumen einladen. Das Bastian Menz Project zeichnet sich durch einen poetischen Klang aus.\n\nNach seinem im Jahr 2023 veröffentlichten Debütalbum Seasons (Unit Records)\, das über eine halbe Million Hörerinnen auf den gängigen Musikstreaming-Plattformen erreichte\, erschien im Juli 2025 das Livealbum Everything In Between auf dem italienischen Label A.MA Records. Aufgenommen mit Reuben Rogers (Bass) und Konstantin Herleinsberger (Sax)\, wurde das Album unter anderem vom Paris Move Magazine als „a masterclass in jazz subtlety and elegance“ beschrieben.\n\nNun hat der Berliner Schlagzeuger ein neues Programm erarbeitet und verbindet dabei seine musikalischen Einflüsse von Roy Hargrove und Kenny Garrett bis hin zu Künstlern wie D’Angelo und Robert Glasper. Individuelles Feingefühl trifft auf interaktives Zusammenspiel und formt einen eigenständigen Sound\, den die Band kontinuierlich weiterentwickelt.\n\nMusik:\n\nDream: https://www.youtube.com/watch?v=74hUNqnqUWg&list=RD74hUNqnqUWg&start_radio=1\n\nPendel: https://youtu.be/YZXqWcwfBBo?si=cQZ4h0qmPMsAKHfG\n\nRezensionen:\n\n„The project proves to be an exceptional record that moves beyond merely a performance and more towards a conversation. One that listeners will be grateful to have been part of.“ – Blue in Green Radio\n\n„A masterclass in jazz subtlety and elegance.“ – Paris Move Magazine\n\n„A testament to beauty in expression and an extraordinary level of musical intellect.“ – Paris Move Magazine\n\nLive on YouTube: https://www.youtube.com/watch?v=bH8Kci6cnlU\n\nEintritt frei – um angemessenen Kulturbeitrag wird gebeten.\n\nFree entry – it is suggested to give some money if you like the band.\n\nDas Peppi Guggenheim ist eine Raucherinnenbar! Einlass ab 18 Jahre!\n\nThe Peppi Guggenheim is a smoking bar!Admission from 18 years!\n\nSpe©ialgalerie Peppi Guggenheim International Berlin\n\nhttp://www.peppi-guggenheim.de\n\nhttps://mastodon.social/@Peppi_Guggenheim\n\nhttps://makertube.net/c/peppi_guggenheim_live/videos\n\n#OmriAbramov #ArsenyRykov #FrancescoBeccaro #BastianMenz#Jazz #Fusion #modernJazz #PeppiGuggenheim #Neukölln #Berlin #BerlinJazz #JazzNeukölln #JazzBerlin\n\n
DTEND;TZID=Europe/Berlin:20260501T114500
DTSTAMP:20260421T091443Z
DTSTART;TZID=Europe/Berlin:20260501T104500
LOCATION:Peppi Guggenheim Weichselstrasse 7 12043 Berlin  Deutschland
ORGANIZER:Peppi Guggenheim Live Music
STATUS:CONFIRMED
SUMMARY:Bastian Menz Project
UID:8c982937-9e10-446a-8565-2a4a821c0a37
URL:https://mobilize.berlin/events/8c982937-9e10-446a-8565-2a4a821c0a37
END:VEVENT
BEGIN:VEVENT
CATEGORIES:berlin,berlinjazz,davidguy,fusion,improvisation,jazz,jazzberlin,jazzneukölln,mattshapiro,modern,neukölln,paulbreiting,peppiguggenheim,tomvarrall
DESCRIPTION:Matt Shapiro - Keys\n\nTom Varrall - guitar\n\nPaul Breiting - Bass\n\nDavid Guy - Drums\n\nBacktracked cut their teeth on a run of successful sold out tribute shows across Europe. Performing jazz reworks of hip hop artists such as J Dilla\, Missy Elliot\, OutKast\, and Erykah Badu. The trio behind DJ Sameeds NTS Radio A live band plays the music of presented a unique blend of fusion jazz reworks and enthralling original compositions. The trio now makes the exciting transition of putting its creative energy into original music.\n\nDebut EP Alphabets\n\nThe Berlin trio has just released its debut EP Alphabets. This six track sonic journey draws inspiration from the trios Berlin surroundings\, including their early morning commutes on the 104 bus route and the very fabric of the city. Alphabets possesses an angular and edgy quality\, reflecting the brutalist building that houses the trios studio.\n\nCreating a feel good sound that is both nostalgic and forward thinking\, Alphabets is packed full of breezy melodies\, laid back beats meeting mind elevating progressions and ethereal atmospheres. Introspective and reflective\, it channels a sense of summer nostalgia of Berlins relaxed\, dressed down summer months. The trio explain\, Its like the city is slowing down\, and youre at peace with it.\n\nMUSICAL STYLE\n\nIn addition to drawing inspiration from their urban surroundings\, the trios experiences paying tribute to classic artists have played a significant role in shaping Backtrackeds music. They also find inspiration in contemporary acts such as Butcher Brown\, Kiefer\, and Big Yuki\, as well as the thriving Berlin music scene\, featuring artists like Yoofee\, move 78\, and Abase. Currently\, Backtracked is in collaboration with Robert Owens\, both in the studio and on stage\, where they are delving deep into the realm of house music.\n\nTheir instrumental and collaborative live performances are hard hitting\, danceable\, and high energy in nature. All characterized by ample improvisation and a dynamic live sound\, both captivating audiences and getting them moving.\n\nEP Reception\n\nIn the months following the EP Release three tracks have been featured on the BBC6 Music Focus Beats and Lucas Benjamins Tip44 Playlist. The EP was also premiered by twisted soul music presenting Reflective Song. Coverage was also ran by wordplay magazine and melting pot music.\n\nLive on YouTube: https://www.youtube.com/watch?v=oDojAGkpu5g\n\nEintritt frei – um angemessenen Kulturbeitrag wird gebeten.\n\nFree entry – it is suggested to give some money if you like the band.\n\nDas Peppi Guggenheim ist eine Raucherinnenbar! Einlass ab 18 Jahre!\n\nThe Peppi Guggenheim is a smoking bar!Admission from 18 years!\n\nSpe©ialgalerie Peppi Guggenheim International Berlin\n\nhttp://www.peppi-guggenheim.de\n\nhttps://mastodon.social/@Peppi_Guggenheim\n\nhttps://makertube.net/c/peppi_guggenheim_live/videos\n\n#MattShapiro #TomVarrall #PaulBreiting #DavidGuy #Fusion #Modern #Improvisation #Jazz #PeppiGuggenheim #Neukölln #Berlin #BerlinJazz #JazzNeukölln #JazzBerlin\n\n
DTEND;TZID=Europe/Berlin:20260502T114500
DTSTAMP:20260421T091443Z
DTSTART;TZID=Europe/Berlin:20260502T104500
LOCATION:Peppi Guggenheim Weichselstrasse 7 12043 Berlin  Deutschland
ORGANIZER:Peppi Guggenheim Live Music
STATUS:CONFIRMED
SUMMARY:BACKTRACKED
UID:79bef562-26f8-48bb-b3c3-f74f31072182
URL:https://mobilize.berlin/events/79bef562-26f8-48bb-b3c3-f74f31072182
END:VEVENT
BEGIN:VEVENT
CATEGORIES:afrobeat,dj,disco,electronic,experimental,funk,goodmusic,jazz,krautrock,rock
DESCRIPTION:Peppi Guggenheim’s own resident DJs Jazz Ape & Smorgasbord are mining the night for musical gems\, rarities and oddities. Be prepared!\n\n#Vinyl #DJ #GoodMusic #Jazz #Soul #Funk #AfroBeat #Electronic #Rock #Krautrock #Experimental #Disco\n\nWeitere Veranstaltunge\n\n
DTEND;TZID=Europe/Berlin:20260507T220000
DTSTAMP:20260421T091443Z
DTSTART;TZID=Europe/Berlin:20260507T210000
LOCATION:Peppi Guggenheim Weichselstrasse 7 12043 Berlin  Deutschland
ORGANIZER:Peppi Guggenheim Live Music
STATUS:CONFIRMED
SUMMARY:DJ Tag: DJ Bohemians at work
UID:739f799f-ee89-4ca6-8410-30f1621ec50b
URL:https://mobilize.berlin/events/739f799f-ee89-4ca6-8410-30f1621ec50b
END:VEVENT
BEGIN:VEVENT
CATEGORIES:annakaluza,benlehmann,berlin,flomüller,jazz,liveconcert,martialfrenzel,neukölln,peppiguggenheim,rumblephonefish
DESCRIPTION:Anna Kaluza - alt\n\nFlo Müller - git\n\nBen Lehmann - b\n\nMartial Frenzel - dr\n\nAus der bewussten Kreation des in dem Moment möglichen\, erschafft das Quartett neue Formen und Welten.\n\nDabei stehen Selbstverständnis und Ausdruckskraft stets über den musikalischen Parametern und erzeugen ein intensives Zusammenspiel aus spontaner Teilhabe und aktiver Kommunikation.\n\nhttp://benlehmann.de/rumble-phone-fish/\n\nLive on YouTube: https://www.youtube.com/watch?v=8yfFDFns1c8\n\nEintritt frei – um angemessenen Kulturbeitrag wird gebeten.\n\nFree entry – it is suggested to give some money if you like the band.\n\nDas Peppi Guggenheim ist eine Raucherinnenbar! Einlass ab 18 Jahre!\n\nThe Peppi Guggenheim is a smoking bar!Admission from 18 years!\n\nSpe©ialgalerie Peppi Guggenheim International Berlin\n\nhttp://www.peppi-guggenheim.de\n\nhttps://mastodon.social/@Peppi_Guggenheim\n\nhttps://makertube.net/c/peppi_guggenheim_live/videos\n\n#RumblePhoneFish #AnnaKaluza #FloMüller #BenLehmann #MartialFrenzel #Jazz #LiveConcert #PeppiGuggenheim #Neukölln #Berlin\n\n
DTEND;TZID=Europe/Berlin:20260508T214500
DTSTAMP:20260421T091443Z
DTSTART;TZID=Europe/Berlin:20260508T200000
LOCATION:Peppi Guggenheim Weichselstrasse 7 12043 Berlin  Deutschland
ORGANIZER:Peppi Guggenheim Live Music
STATUS:CONFIRMED
SUMMARY:Rumble Phone Fish
UID:3c1efff1-e98b-495a-bbc5-c684ef281db9
URL:https://mobilize.berlin/events/3c1efff1-e98b-495a-bbc5-c684ef281db9
END:VEVENT
BEGIN:VEVENT
DTEND;TZID=Europe/Berlin:20260509T214500
DTSTAMP:20260421T091443Z
DTSTART;TZID=Europe/Berlin:20260509T200000
LOCATION:Peppi Guggenheim Weichselstrasse 7 12043 Berlin  Deutschland
ORGANIZER:Peppi Guggenheim Live Music
STATUS:CONFIRMED
SUMMARY:Fragments
UID:37feff71-cd04-4523-808d-cdc98a286913
URL:https://mobilize.berlin/events/37feff71-cd04-4523-808d-cdc98a286913
END:VEVENT
BEGIN:VEVENT
CATEGORIES:bass,dj,funk,hiphop,soul
DESCRIPTION:Soul / Hip Hop / Bass\n\nhttps://m.soundcloud.com/dj-giotto\n\n\n\n#DJ #Soul #Funk #HipHop #Bass\n\n
DTEND;TZID=Europe/Berlin:20260515T210000
DTSTAMP:20260421T091443Z
DTSTART;TZID=Europe/Berlin:20260514T210000
LOCATION:Peppi Guggenheim Weichselstrasse 7 12043 Berlin  Deutschland
ORGANIZER:Peppi Guggenheim Live Music
STATUS:CONFIRMED
SUMMARY:DJ Tag: Giotto Beattz
UID:56aa8054-f8d9-45b4-bb2c-7bfa4f236cdc
URL:https://mobilize.berlin/events/56aa8054-f8d9-45b4-bb2c-7bfa4f236cdc
END:VEVENT
BEGIN:VEVENT
CATEGORIES:berlin,berlinjazz,jazz,jazzberlin,jazzneukölln,jazzpop,neukölln,peppiguggenheim,riarother,sachahladiy,yamirahgercke,modernjazz
DESCRIPTION:Yamirah’s Solar Explorers – featuring Yamirah Gercke on guitar\, Sacha Hladiy on piano\, and Ria Rother on drums – is a young trio that released its debut album Andromeda Galaxy on January 30\, 2026. The band invites listeners on a cinematic indie-jazz journey unlike any other. The album was also featured in the March issue of Rolling Stone Germany.\n\nGuitarist Yamirah Gercke specializes in cinematic jazz-pop compositions. She graduated from the Berklee College of Music in her hometown of Boston and went on to release her own records\, Neighbors and Pressure(honored by the Indie Visions Film Festival). Her extensive experience stems from her close collaboration with her late father Lenjes Robinsonin the band project Bad Ass Freaks\, as well as from numerous other collaborations. With her own label\, Fat Banshee Records\, she is pioneering within the indie scene and is dedicated to supporting emerging talent.\n\nPiano virtuoso Sacha Hladiy received his musical training at the Bill Evans Piano Academy in Paris. A devoted lover of jazz piano\, he blends experimental and contemporary styles in his solo albums\, often intertwining them with classical elements. With his beloved Nord Stage\, he also takes over the bass lines in Yamirah’s Solar Explorers\, creating rich and diverse sonic landscapes.\n\nDrummer Ria Rother studied in Leipzig and Porto under mentors such as Holger Nell\, Heinrich Köbberling\, Werner Neumann\, Michael Lauren\, and Richie Beirach. In Berlin’s jazz scene\, she is a sought-after member of ensembles of all sizes — equally at home in a big band or a free-form duo. Within Yamirah’s Solar Explorers\, her versatile playing forms the foundation for smooth and flowing grooves.\n\nfollow the Trio on Instagram\n\nYAMIRAH GERCKE TAKES US ON A DYSTOPIAN TRIP THROUGH BERLIN…not-your-typical-jazz music video – Indie Republik (2019)\n\n„Cinematic jazz pop“ nennt Yamirah Gercke ihren Musikstil\, den sie am kommenden Samstag\, 15. Juni\, zusammen mit Pianist Sacha Hladiy und Schlagzeugerin Ria Rother ab 20.30 Uhr auf die Bühne bringt. Die Berlinerin hat sich in der deutschen Musikszene als gefragte Gitarristin und Komponistin…PNP (2024)\n\n…eine musikalische Reise ins Sonnensystem mit dem Trio Yamirah’s Solar Explorers…Tip Berlin (2024)\n\n"Die Gitarristin will ganz hoch hinaus" Ralf Dorschel - NDR Kultur 2026\n\nThere is an impressive degree of elegance to several of the tracks\, but this never interferes with the emotional elements of the music - JAZZ JOURNAL 2026\n\nWenn alle Debüt-Alben so fesselnd und zugleich angenehm klängen wie "Andromeda Galaxy" -Vinyl Fan\n\nEindrucksvolles Debüt zwischen groovigem Jazz und cineastischem Soul! Gitarre\, Keys und Drums verschmelzen zu einem warmen\, modernen Sound\, der gleichermaßen intim wie kosmisch wirkt. Andromeda Galaxy ist Hommage\, Aufbruch und Einladung zugleich – ein Debüt mit Vision und Tiefe.-DARKSTAR 2026\n\nEine Galaxie in Bewegung: „Andromeda Galaxy“ von Yamirah’s Solar Explorers -SWR 2026\n\nYamirah Gercke - guitar\n\nSacha Hladiy - piano\n\nRia Rother - drums\n\nhttps://www.youtube.com/watch?v=WN7qspSN-Do\n\nLive on YouTube: https://www.youtube.com/watch?v=oE-Slbh874A\n\nEintritt frei – um angemessenen Kulturbeitrag wird gebeten.\n\nFree entry – it is suggested to give some money if you like the band.\n\nDas Peppi Guggenheim ist eine Raucherinnenbar! Einlass ab 18 Jahre!\n\nThe Peppi Guggenheim is a smoking bar!Admission from 18 years!\n\nSpe©ialgalerie Peppi Guggenheim International Berlinhttp://www.peppi-guggenheim.de\n\nhttps://mastodon.social/@Peppi_Guggenheim\n\nhttps://makertube.net/c/peppi_guggenheim_live/videos\n\n#YamirahGercke #SachaHladiy #RiaRother #Jazz #Jazzpop #modernjazz #PeppiGuggenheim #Neukölln #Berlin #BerlinJazz #JazzNeukölln #JazzBerlin\n\n
DTEND;TZID=Europe/Berlin:20260515T214500
DTSTAMP:20260421T091443Z
DTSTART;TZID=Europe/Berlin:20260515T200000
LOCATION:Peppi Guggenheim Weichselstrasse 7 12043 Berlin  Deutschland
ORGANIZER:Peppi Guggenheim Live Music
STATUS:CONFIRMED
SUMMARY:Yamirah’s Solar Explorers
UID:bc9242e5-c140-49fc-83c8-6c88860a564c
URL:https://mobilize.berlin/events/bc9242e5-c140-49fc-83c8-6c88860a564c
END:VEVENT
BEGIN:VEVENT
CATEGORIES:cover,dj,electro,onlycoversleftalive,pop,punk,rock,vinyl
DESCRIPTION:From punkrock makeovers to pop reinventions\, from dance bangers to melancholic ballads – we play nothing but cover versions of songs. Because why choose between the familiar and the novel if you can have both?\n\nHere you can listen to a few songs from our set:\n\nhttps://open.spotify.com/playlist/3nq6ZJYocvpCMBvrOw24KZ\n\n#OnlyCoversLeftAlive #DJ #Vinyl #Cover #Punk #Rock #Pop #Electro\n\n
DTEND;TZID=Europe/Berlin:20260521T230000
DTSTAMP:20260421T091443Z
DTSTART;TZID=Europe/Berlin:20260521T210000
LOCATION:Peppi Guggenheim Weichselstrasse 7 12043 Berlin  Deutschland
ORGANIZER:Peppi Guggenheim Live Music
STATUS:CONFIRMED
SUMMARY:DJ Only Covers Left Alive meets DJ Splenda
UID:9f218316-b91b-4780-ae4d-a2d7d6b445da
URL:https://mobilize.berlin/events/9f218316-b91b-4780-ae4d-a2d7d6b445da
END:VEVENT
END:VCALENDAR
